BEGIN:VCALENDAR
VERSION:2.0
PRODID:-//eventon.com NONSGML v1.0//EN
CALSCALE:GREGORIAN
METHOD:PUBLISH
BEGIN:VEVENT
UID:69e7383d47ac5
DTSTAMP:20260421T084133Z
DTSTART:20260320T173000Z
DTEND:20260320T193000Z
LOCATION:ConfÃ©rence A3A : HÃ´tel Livois 6 rue Ã‰mile Bordier
SUMMARY:LeÃ§on d'architecture A3A : Et si lâ€™esquisse mâ€™Ã©tait contÃ©eâ€¦ / Pascale Minier\,  Architecte
DESCRIPTION:LeÃ§on d'architecture A3A : Et si lâ€™esquisse mâ€™Ã©tait contÃ
 ©eâ€¦ / Pascale Minier\,  Architecte\nhttps://www.caue49.com/events/et-si-l
 -esquisse-m-etait-contee/
URL:https://www.caue49.com/events/et-si-l-esquisse-m-etait-contee/
END:VEVENT
END:VCALENDAR