BEGIN:VCALENDAR
VERSION:2.0
PRODID:-//eventon.com NONSGML v1.0//EN
CALSCALE:GREGORIAN
METHOD:PUBLISH
BEGIN:VEVENT
UID:69e7383cc4d29
DTSTAMP:20260421T084132Z
DTSTART:20170323T183000Z
DTEND:20170323T235000Z
LOCATION:MATP\,  312 avenue René Gasnier\,  49100 Angers
SUMMARY:Conférence "Construction bois\,  construire avec le territoire”
DESCRIPTION:Conférence "Construction bois\,  construire avec le territoire
 ”\nhttps://www.caue49.com/events/construire-avec-le-territoire/
URL:https://www.caue49.com/events/construire-avec-le-territoire/
END:VEVENT
END:VCALENDAR