BEGIN:VCALENDAR
VERSION:2.0
PRODID:-//eventon.com NONSGML v1.0//EN
CALSCALE:GREGORIAN
METHOD:PUBLISH
BEGIN:VEVENT
UID:69e738186df7e
DTSTAMP:20260421T084056Z
DTSTART:20180517T183000Z
DTEND:20180517T235000Z
LOCATION:Institut municipal d&#039;Angers 9 rue du Musée\,  49000 Angers
SUMMARY:Un logement pour tous à Angers. Christine Brisset : des squatteurs aux Castors (1947-1967)
DESCRIPTION:Un logement pour tous à Angers. Christine Brisset : des squatt
 eurs aux Castors (1947-1967)\nhttps://www.caue49.com/events/cours-darchite
 cture-un-logement-pour-tous-a-angers/
URL:https://www.caue49.com/events/cours-darchitecture-un-logement-pour-tous-a-angers/
END:VEVENT
END:VCALENDAR