BEGIN:VCALENDAR
VERSION:2.0
PRODID:-//eventon.com NONSGML v1.0//EN
CALSCALE:GREGORIAN
METHOD:PUBLISH
BEGIN:VEVENT
UID:69eb9aebc4801
DTSTAMP:20260424T163139Z
DTSTART:20180525T000000Z
DTEND:20180525T235900Z
LOCATION:La Maison Neuve\,  49140 Corzé
SUMMARY:Visite du pavillon d’accueil de la scierie de Corzé
DESCRIPTION:Visite du pavillon d’accueil de la scierie de Corzé\nhttps:/
 /www.caue49.com/events/visite-pavillon-d-accueil-de-la-scierie-de-corze/
URL:https://www.caue49.com/events/visite-pavillon-d-accueil-de-la-scierie-de-corze/
END:VEVENT
END:VCALENDAR