BEGIN:VCALENDAR
VERSION:2.0
PRODID:-//eventon.com NONSGML v1.0//EN
CALSCALE:GREGORIAN
METHOD:PUBLISH
BEGIN:VEVENT
UID:69e5e16db1a7b
DTSTAMP:20260420T081853Z
DTSTART:20210928T180000Z
DTEND:20210928T010000Z
LOCATION:MATP\,  312 avenue René Gasnier\,  49100 Angers
SUMMARY:La Nature en Ville
DESCRIPTION:La Nature en Ville\nhttps://www.caue49.com/events/la-nature-en-
 ville/
URL:https://www.caue49.com/events/la-nature-en-ville/
END:VEVENT
END:VCALENDAR