BEGIN:VCALENDAR
VERSION:2.0
PRODID:-//eventon.com NONSGML v1.0//EN
CALSCALE:GREGORIAN
METHOD:PUBLISH
BEGIN:VEVENT
UID:69e738380979a
DTSTAMP:20260421T084128Z
DTSTART:20220427T124500Z
DTEND:20220426T230000Z
LOCATION:MATP\,  312 avenue René Gasnier\,  49100 Angers
SUMMARY:Le logement
DESCRIPTION:Le logement\nhttps://www.caue49.com/events/mini-conferences-le-
 logement/
URL:https://www.caue49.com/events/mini-conferences-le-logement/
END:VEVENT
END:VCALENDAR